BEGIN:VCALENDAR
VERSION:2.0
PRODID:-//Brandon Tolson Foundation - ECPv6.15.20//NONSGML v1.0//EN
CALSCALE:GREGORIAN
METHOD:PUBLISH
X-ORIGINAL-URL:https://brandontolsonfoundation.org
X-WR-CALDESC:Events for Brandon Tolson Foundation
REFRESH-INTERVAL;VALUE=DURATION:PT1H
X-Robots-Tag:noindex
X-PUBLISHED-TTL:PT1H
BEGIN:VTIMEZONE
TZID:America/New_York
BEGIN:DAYLIGHT
TZOFFSETFROM:-0500
TZOFFSETTO:-0400
TZNAME:EDT
DTSTART:20240310T070000
END:DAYLIGHT
BEGIN:STANDARD
TZOFFSETFROM:-0400
TZOFFSETTO:-0500
TZNAME:EST
DTSTART:20241103T060000
END:STANDARD
BEGIN:DAYLIGHT
TZOFFSETFROM:-0500
TZOFFSETTO:-0400
TZNAME:EDT
DTSTART:20250309T070000
END:DAYLIGHT
BEGIN:STANDARD
TZOFFSETFROM:-0400
TZOFFSETTO:-0500
TZNAME:EST
DTSTART:20251102T060000
END:STANDARD
BEGIN:DAYLIGHT
TZOFFSETFROM:-0500
TZOFFSETTO:-0400
TZNAME:EDT
DTSTART:20260308T070000
END:DAYLIGHT
BEGIN:STANDARD
TZOFFSETFROM:-0400
TZOFFSETTO:-0500
TZNAME:EST
DTSTART:20261101T060000
END:STANDARD
BEGIN:DAYLIGHT
TZOFFSETFROM:-0500
TZOFFSETTO:-0400
TZNAME:EDT
DTSTART:20270314T070000
END:DAYLIGHT
BEGIN:STANDARD
TZOFFSETFROM:-0400
TZOFFSETTO:-0500
TZNAME:EST
DTSTART:20271107T060000
END:STANDARD
END:VTIMEZONE
BEGIN:VEVENT
DTSTART;TZID=America/New_York:20260218T183000
DTEND;TZID=America/New_York:20260218T193000
DTSTAMP:20260421T094518
CREATED:20240710T165950Z
LAST-MODIFIED:20260204T182337Z
UID:10000003-1771439400-1771443000@brandontolsonfoundation.org
SUMMARY:BTF Parent Zoom Support Call
DESCRIPTION:Our February BTF Parent Support Call will be on Wednesday\, February 18th 6:30P. \nPlease register in advance HERE \nAfter registering\, you will receive a confirmation email containing information about joining the meeting. Capacity is fifteen (15) parents. \nWe do ask that you are at least 3 months into your grief journey so that we can provide equal support to all attendees. For those you that are in the 3 months of your grief journey\, we do have partnerships with grief counselors for a more personal approach with one on one support. You can find those HERE. \nAs always\, please contact Candi if you need additional assistance or support.
URL:https://brandontolsonfoundation.org/parent-event/btf-parent-zoom-support-call/
LOCATION:Zoom
CATEGORIES:For BTF Parents only
ATTACH;FMTTYPE=image/jpeg:https://brandontolsonfoundation.org/wp-content/uploads/2024/07/Palm-with-wave.jpg
ORGANIZER;CN="Candi Tolson":MAILTO:candi@brandontolsonfoundation.org
END:VEVENT
BEGIN:VEVENT
DTSTART;TZID=America/New_York:20251216T183000
DTEND;TZID=America/New_York:20251216T210000
DTSTAMP:20260421T094518
CREATED:20240926T215801Z
LAST-MODIFIED:20250903T113928Z
UID:10000013-1765909800-1765918800@brandontolsonfoundation.org
SUMMARY:Annual BTF "UN"-Holiday Party
DESCRIPTION:Hello dear families! Jon and I understand how difficult the holiday season can be for all of you and so\, we want to invite you to join us for our annual “UN”-Holiday gathering. It’s an evening of good food and wonderful company where we can support each other in fellowship and understanding of the holidays without our children. \nWe’ve chosen for us to have sit down dinner with 4 entree choices – Chicken Giovanni\, Veal Parmigiana\, Shrimp Scampi or Crab Ravioli. Appetizers and desserts too and a cash bar \nYou can obtain your complimentary ticket on our website at https://brandontolsonfoundation.org/product/un-holiday-party-2025/.  When making your purchase\, you will need to choose your choice of entree from the drop down menu. \nWe know how quickly our calendars fill up towards the end of the year so\, mark your calendars and get your ticket ASAP. Please do so by December 8th as we need to provide the restaurant with a head count. \nThis event is only for our\, BTF Moms and Dads. With the growth of our families\, we are unable to enable you to extend an invitation to others within your family. \nWe hope you’ll spend the evening with us and perhaps ease the tension of the season.
URL:https://brandontolsonfoundation.org/parent-event/10116/
LOCATION:Liberatore’s\, 562 Baltimore Pike\, Bel Air\, MD\, 21014\, United States
CATEGORIES:For BTF Parents only
ATTACH;FMTTYPE=image/jpeg:https://brandontolsonfoundation.org/wp-content/uploads/2024/09/Un-Holiday-Ticket-2025.jpg
END:VEVENT
BEGIN:VEVENT
DTSTART;TZID=America/New_York:20250208T090000
DTEND;TZID=America/New_York:20250208T150000
DTSTAMP:20260421T094518
CREATED:20240710T174455Z
LAST-MODIFIED:20250103T174228Z
UID:10000008-1739005200-1739026800@brandontolsonfoundation.org
SUMMARY:BTF Parent Retreat
DESCRIPTION:We are thrilled to be having our very first parent retreat on Saturday\, February 8\, 2025.  Sponsored and organized by Spartan Surfaces\, a local Bel Air business.  Our day will include a variety of speakers and sessions geared to provide support to our parents and their children.  Registration is now open – BTF Retreat registration link
URL:https://brandontolsonfoundation.org/parent-event/btf-parent-retreat/
LOCATION:Maryland Golf & Country Club\, 1335 East MacPhail Road\, Bel Air\, MD\, 21015\, United States
CATEGORIES:For BTF Parents only
ATTACH;FMTTYPE=image/png:https://brandontolsonfoundation.org/wp-content/uploads/2024/07/BTF-Family-Retreat-Email-Invitation-Header.png
END:VEVENT
END:VCALENDAR